BEGIN:VCALENDAR
VERSION:2.0
PRODID:-//POLIISIEN AMPUMASEURA RY - ECPv6.15.11//NONSGML v1.0//EN
CALSCALE:GREGORIAN
METHOD:PUBLISH
X-WR-CALNAME:POLIISIEN AMPUMASEURA RY
X-ORIGINAL-URL:https://pas.fi
X-WR-CALDESC:Tapahtumat POLIISIEN AMPUMASEURA RY
REFRESH-INTERVAL;VALUE=DURATION:PT1H
X-Robots-Tag:noindex
X-PUBLISHED-TTL:PT1H
BEGIN:VTIMEZONE
TZID:Europe/Helsinki
BEGIN:DAYLIGHT
TZOFFSETFROM:+0200
TZOFFSETTO:+0300
TZNAME:EEST
DTSTART:20240331T010000
END:DAYLIGHT
BEGIN:STANDARD
TZOFFSETFROM:+0300
TZOFFSETTO:+0200
TZNAME:EET
DTSTART:20241027T010000
END:STANDARD
BEGIN:DAYLIGHT
TZOFFSETFROM:+0200
TZOFFSETTO:+0300
TZNAME:EEST
DTSTART:20250330T010000
END:DAYLIGHT
BEGIN:STANDARD
TZOFFSETFROM:+0300
TZOFFSETTO:+0200
TZNAME:EET
DTSTART:20251026T010000
END:STANDARD
BEGIN:DAYLIGHT
TZOFFSETFROM:+0200
TZOFFSETTO:+0300
TZNAME:EEST
DTSTART:20260329T010000
END:DAYLIGHT
BEGIN:STANDARD
TZOFFSETFROM:+0300
TZOFFSETTO:+0200
TZNAME:EET
DTSTART:20261025T010000
END:STANDARD
END:VTIMEZONE
BEGIN:VEVENT
DTSTART;TZID=Europe/Helsinki:20250913T120000
DTEND;TZID=Europe/Helsinki:20250913T180000
DTSTAMP:20260420T094211
CREATED:20250623T163927Z
LAST-MODIFIED:20250623T163927Z
UID:3373-1757764800-1757786400@pas.fi
SUMMARY:PAS TA Kurssi\, syksy 2025
DESCRIPTION:Tervetuloa PAS Action Air Turvallisen ampujan kurssille. \nLisätiedot löytyvät kurssiesitteestä: \npas_aa_ta-kurssi_9_2025
URL:https://pas.fi/event/pas-ta-kurssi-syksy-2025/
LOCATION:Hyttitie 4 A\, Helsinki
END:VEVENT
END:VCALENDAR