BEGIN:VCALENDAR
VERSION:2.0
PRODID:-//POLIISIEN AMPUMASEURA RY - ECPv6.15.11//NONSGML v1.0//EN
CALSCALE:GREGORIAN
METHOD:PUBLISH
X-ORIGINAL-URL:https://pas.fi
X-WR-CALDESC:Tapahtumat POLIISIEN AMPUMASEURA RY
REFRESH-INTERVAL;VALUE=DURATION:PT1H
X-Robots-Tag:noindex
X-PUBLISHED-TTL:PT1H
BEGIN:VTIMEZONE
TZID:Europe/Helsinki
BEGIN:DAYLIGHT
TZOFFSETFROM:+0200
TZOFFSETTO:+0300
TZNAME:EEST
DTSTART:20240331T010000
END:DAYLIGHT
BEGIN:STANDARD
TZOFFSETFROM:+0300
TZOFFSETTO:+0200
TZNAME:EET
DTSTART:20241027T010000
END:STANDARD
BEGIN:DAYLIGHT
TZOFFSETFROM:+0200
TZOFFSETTO:+0300
TZNAME:EEST
DTSTART:20250330T010000
END:DAYLIGHT
BEGIN:STANDARD
TZOFFSETFROM:+0300
TZOFFSETTO:+0200
TZNAME:EET
DTSTART:20251026T010000
END:STANDARD
BEGIN:DAYLIGHT
TZOFFSETFROM:+0200
TZOFFSETTO:+0300
TZNAME:EEST
DTSTART:20260329T010000
END:DAYLIGHT
BEGIN:STANDARD
TZOFFSETFROM:+0300
TZOFFSETTO:+0200
TZNAME:EET
DTSTART:20261025T010000
END:STANDARD
BEGIN:DAYLIGHT
TZOFFSETFROM:+0200
TZOFFSETTO:+0300
TZNAME:EEST
DTSTART:20270328T010000
END:DAYLIGHT
BEGIN:STANDARD
TZOFFSETFROM:+0300
TZOFFSETTO:+0200
TZNAME:EET
DTSTART:20271031T010000
END:STANDARD
END:VTIMEZONE
BEGIN:VEVENT
DTSTART;TZID=Europe/Helsinki:20251221T080000
DTEND;TZID=Europe/Helsinki:20251221T190000
DTSTAMP:20260420T094346
CREATED:20251119T204055Z
LAST-MODIFIED:20251207T102929Z
UID:3401-1766304000-1766343600@pas.fi
SUMMARY:PAS VI AA Kilpailu
DESCRIPTION:PAS VI Action Air pistoolikilpailu.  \nIPSC Level 2.  \nKuusi stagea.  \nIlmoittautumiset: https://pelias.ipscfin.org/fi/competition_pub/1459 \nPre-match: Lauantai 20.12 \nMain-match: Sunnuntai 21.12 \n  \nStagekuvaukset: \nPAS_VI_stageBriefings_001\n 
URL:https://pas.fi/event/pas-vi-aa-kilpailu/
LOCATION:Hyttitie 4 A\, Helsinki
END:VEVENT
BEGIN:VEVENT
DTSTART;TZID=Europe/Helsinki:20260228T120000
DTEND;TZID=Europe/Helsinki:20260228T180000
DTSTAMP:20260420T094346
CREATED:20251028T085904Z
LAST-MODIFIED:20260204T173347Z
UID:3389-1772280000-1772301600@pas.fi
SUMMARY:PAS TA Kurssi 3/2026
DESCRIPTION:Kurssin sisältö: \n11 x 1.5h lähiopetusta pienryhmissä \n1 kurssikisa \nTA Koe \nta-kurssi_3_2026_002\n 
URL:https://pas.fi/event/pas-ta-kurssi-3-2026/
LOCATION:Hyttitie 4 A\, Helsinki
END:VEVENT
BEGIN:VEVENT
DTSTART;TZID=Europe/Helsinki:20260317T180000
DTEND;TZID=Europe/Helsinki:20260317T210000
DTSTAMP:20260420T094346
CREATED:20260217T125559Z
LAST-MODIFIED:20260217T125705Z
UID:3419-1773770400-1773781200@pas.fi
SUMMARY:Kevätkokous 2026
DESCRIPTION:Hyvä seuran jäsen\,\nLämpimästi tervetuloa Poliisien Ampumaseura ry:n sääntömääräiseen kevätkokoukseen\,\njoka pidetään\nTiistaina 17.3.2026 klo 18.00 Ravintola Zinnkellerissä. (Meritullinkatu 25\, Helsinki) \nKokouksessa käsitellään sääntöjen 11 §:n mukaiset asiat kuten toimintakertomus ja\ntilinpäätös.\nKokouksen jälkeen on yhteinen buffet-illallinen saksalaiseen tyyliin. Illallisen omavastuu on\n15€ ja se maksetaan paikan päällä maksukortilla.\nIlmoittautuminen (kokousjärjestelyiden takia) viimeistään 9.3.2026\nmennessä osoitteessa https://ilmoittautuminen.pas.fi/. \nTervetuloa!\nPoliisien Ampumaseura ry\nHallitus
URL:https://pas.fi/event/kevatkokous-2026/
END:VEVENT
END:VCALENDAR